0.500000
0.000000
0.000000
-0.500000
2892608.750000
357517.750000
