0.500000
0.000000
0.000000
-0.500000
2895287.250000
357610.750000
