0.500000
0.000000
0.000000
-0.500000
2890164.250000
354767.250000
