0.500000
0.000000
0.000000
-0.500000
2892431.750000
360085.250000
