0.500000
0.000000
0.000000
-0.500000
2897538.250000
362931.750000
