0.500000
0.000000
0.000000
-0.500000
2897737.750000
360373.250000
