0.500000
0.000000
0.000000
-0.500000
2886801.250000
365190.750000
