0.500000
0.000000
0.000000
-0.500000
2884163.250000
365026.250000
