0.500000
0.000000
0.000000
-0.500000
2894435.750000
370747.250000
