0.500000
0.000000
0.000000
-0.500000
2916693.250000
345442.750000
