0.500000
0.000000
0.000000
-0.500000
2904029.250000
344759.250000
