0.500000
0.000000
0.000000
-0.500000
2906555.250000
347526.250000
