0.500000
0.000000
0.000000
-0.500000
2913796.250000
350640.250000
