0.500000
0.000000
0.000000
-0.500000
2919079.250000
350899.250000
