0.500000
0.000000
0.000000
-0.500000
2913602.750000
355894.750000
