0.500000
0.000000
0.000000
-0.500000
2902834.750000
363256.750000
