0.500000
0.000000
0.000000
-0.500000
2903002.250000
360653.750000
