0.500000
0.000000
0.000000
-0.500000
2908276.250000
360874.750000
