0.500000
0.000000
0.000000
-0.500000
2903221.750000
315576.250000
