0.500000
0.000000
0.000000
-0.500000
2897782.250000
318026.750000
