0.500000
0.000000
0.000000
-0.500000
2899900.250000
326067.250000
