0.500000
0.000000
0.000000
-0.500000
2896947.750000
331165.250000
