0.500000
0.000000
0.000000
-0.500000
2891340.250000
336221.250000
