0.500000
0.000000
0.000000
-0.500000
2885694.250000
341380.750000
