0.500000
0.000000
0.000000
-0.500000
2891160.250000
338903.250000
