0.500000
0.000000
0.000000
-0.500000
2920691.750000
316479.250000
