0.500000
0.000000
0.000000
-0.500000
2921781.250000
313875.750000
