0.500000
0.000000
0.000000
-0.500000
2916569.250000
313615.750000
