0.500000
0.000000
0.000000
-0.500000
2911138.250000
315996.250000
