0.500000
0.000000
0.000000
-0.500000
2908500.250000
315867.750000
