0.500000
0.000000
0.000000
-0.500000
2908172.250000
321160.250000
