0.500000
0.000000
0.000000
-0.500000
2910971.750000
318621.250000
