0.500000
0.000000
0.000000
-0.500000
2920409.750000
321715.250000
