0.500000
0.000000
0.000000
-0.500000
2923053.750000
321877.250000
