0.500000
0.000000
0.000000
-0.500000
2922929.250000
324511.250000
