0.500000
0.000000
0.000000
-0.500000
2915774.750000
326738.750000
