0.500000
0.000000
0.000000
-0.500000
2915932.750000
324100.250000
