0.500000
0.000000
0.000000
-0.500000
2910461.750000
326575.250000
