0.500000
0.000000
0.000000
-0.500000
2913266.250000
324028.750000
