0.500000
0.000000
0.000000
-0.500000
2910132.250000
331811.250000
