0.500000
0.000000
0.000000
-0.500000
2909798.750000
337002.250000
