0.500000
0.000000
0.000000
-0.500000
2909965.250000
334547.250000
