0.500000
0.000000
0.000000
-0.500000
2912471.250000
334738.750000
