0.500000
0.000000
0.000000
-0.500000
2912051.750000
339654.250000
