0.500000
0.000000
0.000000
-0.500000
2919391.750000
342971.750000
