0.3000000
0.0000000
0.0000000
-0.3000000
522000.1500000
5432999.8500000
