0.3000000
0.0000000
0.0000000
-0.3000000
520500.1500000
5443499.8500000
