0.3000000
0.0000000
0.0000000
-0.3000000
514500.1500000
5401499.8500000
