0.3000000
0.0000000
0.0000000
-0.3000000
511500.1500000
5413499.8500000
