0.3000000
0.0000000
0.0000000
-0.3000000
504000.1500000
5405999.8500000
